Package: epimutacions Version: 1.15.0 Command: /home/biocbuild/bbs-3.23-bioc/R/bin/R CMD build --keep-empty-dirs --no-resave-data epimutacions StartedAt: 2025-11-14 17:29:52 -0500 (Fri, 14 Nov 2025) EndedAt: 2025-11-14 17:32:59 -0500 (Fri, 14 Nov 2025) EllapsedTime: 187.1 seconds RetCode: 0 Status: OK PackageFile: epimutacions_1.15.0.tar.gz PackageFileSize: 1.726 MiB