Package: epimutacions Version: 1.15.0 Command: /Library/Frameworks/R.framework/Resources/bin/R CMD INSTALL epimutacions StartedAt: 2025-11-13 15:34:36 -0500 (Thu, 13 Nov 2025) EndedAt: 2025-11-13 15:34:57 -0500 (Thu, 13 Nov 2025) EllapsedTime: 20.7 seconds RetCode: 0 Status: OK