Package: epimutacions Version: 1.15.0 Command: rm -rf epimutacions.buildbin-libdir && mkdir epimutacions.buildbin-libdir && /Users/biocbuild/BBS/utils/build-universal.sh epimutacions_1.15.0.tar.gz /Library/Frameworks/R.framework/Resources/bin/R epimutacions.buildbin-libdir StartedAt: 2025-11-13 23:36:52 -0500 (Thu, 13 Nov 2025) EndedAt: 2025-11-13 23:37:19 -0500 (Thu, 13 Nov 2025) EllapsedTime: 26.8 seconds RetCode: 0 Status: OK PackageFile: epimutacions_1.15.0.tgz PackageFileSize: 1.657 MiB