Package: epigraHMM Version: 1.19.0 Command: /home/biocbuild/bbs-3.23-bioc/R/bin/R CMD INSTALL epigraHMM StartedAt: 2025-11-21 15:33:02 -0500 (Fri, 21 Nov 2025) EndedAt: 2025-11-21 15:35:05 -0500 (Fri, 21 Nov 2025) EllapsedTime: 122.9 seconds RetCode: 0 Status: OK