Package: epigraHMM Version: 1.19.0 Command: /home/biocbuild/bbs-3.23-bioc/R/bin/R CMD build --keep-empty-dirs --no-resave-data epigraHMM StartedAt: 2025-11-21 17:29:50 -0500 (Fri, 21 Nov 2025) EndedAt: 2025-11-21 17:38:36 -0500 (Fri, 21 Nov 2025) EllapsedTime: 526.6 seconds RetCode: 0 Status: OK PackageFile: epigraHMM_1.19.0.tar.gz PackageFileSize: 723.1 KiB