Package: epigraHMM Version: 1.19.0 Command: /Library/Frameworks/R.framework/Resources/bin/R CMD INSTALL epigraHMM StartedAt: 2025-11-13 15:18:26 -0500 (Thu, 13 Nov 2025) EndedAt: 2025-11-13 15:19:01 -0500 (Thu, 13 Nov 2025) EllapsedTime: 35.1 seconds RetCode: 0 Status: OK