Package: epigenomix Version: 1.51.0 Command: /home/biocbuild/bbs-3.23-bioc/R/bin/R CMD build --keep-empty-dirs --no-resave-data epigenomix StartedAt: 2025-11-23 17:30:52 -0500 (Sun, 23 Nov 2025) EndedAt: 2025-11-23 17:32:15 -0500 (Sun, 23 Nov 2025) EllapsedTime: 83.1 seconds RetCode: 0 Status: OK PackageFile: epigenomix_1.51.0.tar.gz PackageFileSize: 426.5 KiB