Package: epigenomix Version: 1.51.0 Command: /Library/Frameworks/R.framework/Resources/bin/R CMD INSTALL epigenomix StartedAt: 2025-11-14 15:20:05 -0500 (Fri, 14 Nov 2025) EndedAt: 2025-11-14 15:20:21 -0500 (Fri, 14 Nov 2025) EllapsedTime: 16.0 seconds RetCode: 0 Status: OK