Package: epigenomix Version: 1.51.0 Command: /Library/Frameworks/R.framework/Resources/bin/R CMD build --keep-empty-dirs --no-resave-data epigenomix StartedAt: 2025-11-14 16:17:33 -0500 (Fri, 14 Nov 2025) EndedAt: 2025-11-14 16:18:07 -0500 (Fri, 14 Nov 2025) EllapsedTime: 33.4 seconds RetCode: 0 Status: OK PackageFile: epigenomix_1.51.0.tar.gz PackageFileSize: 426.6 KiB