Package: epigenomix Version: 1.51.0 Command: rm -rf epigenomix.buildbin-libdir && mkdir epigenomix.buildbin-libdir && /Users/biocbuild/BBS/utils/build-universal.sh epigenomix_1.51.0.tar.gz /Library/Frameworks/R.framework/Resources/bin/R epigenomix.buildbin-libdir StartedAt: 2025-11-14 23:31:56 -0500 (Fri, 14 Nov 2025) EndedAt: 2025-11-14 23:32:15 -0500 (Fri, 14 Nov 2025) EllapsedTime: 19.4 seconds RetCode: 0 Status: OK PackageFile: epigenomix_1.51.0.tgz PackageFileSize: 967.5 KiB