Package: epidecodeR Version: 1.19.0 Command: /home/biocbuild/bbs-3.23-bioc/R/bin/R CMD check --install=check:epidecodeR.install-out.txt --library=/home/biocbuild/bbs-3.23-bioc/R/site-library --timings epidecodeR_1.19.0.tar.gz StartedAt: 2025-11-13 23:20:16 -0500 (Thu, 13 Nov 2025) EndedAt: 2025-11-13 23:24:42 -0500 (Thu, 13 Nov 2025) EllapsedTime: 266.4 seconds RetCode: 0 Status: OK CheckDir: epidecodeR.Rcheck Warnings: 0