Package: epidecodeR Version: 1.19.0 Command: /Library/Frameworks/R.framework/Resources/bin/R CMD INSTALL epidecodeR StartedAt: 2025-11-13 15:16:15 -0500 (Thu, 13 Nov 2025) EndedAt: 2025-11-13 15:16:29 -0500 (Thu, 13 Nov 2025) EllapsedTime: 13.8 seconds RetCode: 0 Status: OK