Package: epidecodeR Version: 1.19.0 Command: /Library/Frameworks/R.framework/Resources/bin/R CMD check --install=check:epidecodeR.install-out.txt --library=/Library/Frameworks/R.framework/Resources/library --no-vignettes --timings epidecodeR_1.19.0.tar.gz StartedAt: 2025-11-12 18:42:24 -0500 (Wed, 12 Nov 2025) EndedAt: 2025-11-12 18:44:14 -0500 (Wed, 12 Nov 2025) EllapsedTime: 110.3 seconds RetCode: 0 Status: OK CheckDir: epidecodeR.Rcheck Warnings: 0