Package: epidecodeR Version: 1.19.0 Command: /Library/Frameworks/R.framework/Resources/bin/R CMD build --keep-empty-dirs --no-resave-data epidecodeR StartedAt: 2025-11-12 16:12:23 -0500 (Wed, 12 Nov 2025) EndedAt: 2025-11-12 16:12:44 -0500 (Wed, 12 Nov 2025) EllapsedTime: 21.2 seconds RetCode: 0 Status: OK PackageFile: epidecodeR_1.19.0.tar.gz PackageFileSize: 2.066 MiB