Package: epialleleR Version: 1.19.0 Command: /Library/Frameworks/R.framework/Resources/bin/R CMD build --keep-empty-dirs --no-resave-data epialleleR StartedAt: 2025-11-14 16:17:10 -0500 (Fri, 14 Nov 2025) EndedAt: 2025-11-14 16:17:45 -0500 (Fri, 14 Nov 2025) EllapsedTime: 35.4 seconds RetCode: 0 Status: OK PackageFile: epialleleR_1.19.0.tar.gz PackageFileSize: 3.8 MiB