Package: epialleleR Version: 1.19.0 Command: rm -rf epialleleR.buildbin-libdir && mkdir epialleleR.buildbin-libdir && /Users/biocbuild/BBS/utils/build-universal.sh epialleleR_1.19.0.tar.gz /Library/Frameworks/R.framework/Resources/bin/R epialleleR.buildbin-libdir StartedAt: 2025-11-14 23:31:51 -0500 (Fri, 14 Nov 2025) EndedAt: 2025-11-14 23:32:17 -0500 (Fri, 14 Nov 2025) EllapsedTime: 25.6 seconds RetCode: 0 Status: OK PackageFile: epialleleR_1.19.0.tgz PackageFileSize: 4.353 MiB