Package: ensembldb Version: 2.35.0 Command: /home/biocbuild/bbs-3.23-bioc/R/bin/R CMD check --install=check:ensembldb.install-out.txt --library=/home/biocbuild/bbs-3.23-bioc/R/site-library --timings ensembldb_2.35.0.tar.gz StartedAt: 2025-11-14 23:18:22 -0500 (Fri, 14 Nov 2025) EndedAt: 2025-11-14 23:37:48 -0500 (Fri, 14 Nov 2025) EllapsedTime: 1165.8 seconds RetCode: 0 Status: OK CheckDir: ensembldb.Rcheck Warnings: 0