Package: ensembldb Version: 2.35.0 Command: /home/biocbuild/bbs-3.23-bioc/R/bin/R CMD build --keep-empty-dirs --no-resave-data ensembldb StartedAt: 2025-11-13 17:28:38 -0500 (Thu, 13 Nov 2025) EndedAt: 2025-11-13 17:30:31 -0500 (Thu, 13 Nov 2025) EllapsedTime: 113.2 seconds RetCode: 0 Status: OK PackageFile: ensembldb_2.35.0.tar.gz PackageFileSize: 3.368 MiB