Package: ensembldb Version: 2.35.0 Command: /Library/Frameworks/R.framework/Resources/bin/R CMD INSTALL ensembldb StartedAt: 2025-11-13 15:21:37 -0500 (Thu, 13 Nov 2025) EndedAt: 2025-11-13 15:21:54 -0500 (Thu, 13 Nov 2025) EllapsedTime: 16.6 seconds RetCode: 0 Status: OK