Package: ensembldb Version: 2.35.0 Command: /Library/Frameworks/R.framework/Resources/bin/R CMD build --keep-empty-dirs --no-resave-data ensembldb StartedAt: 2025-11-14 16:17:06 -0500 (Fri, 14 Nov 2025) EndedAt: 2025-11-14 16:17:53 -0500 (Fri, 14 Nov 2025) EllapsedTime: 47.5 seconds RetCode: 0 Status: OK PackageFile: ensembldb_2.35.0.tar.gz PackageFileSize: 3.281 MiB