Package: enrichplot Version: 1.31.0 Command: /home/biocbuild/bbs-3.23-bioc/R/bin/R CMD INSTALL enrichplot StartedAt: 2025-11-13 15:46:20 -0500 (Thu, 13 Nov 2025) EndedAt: 2025-11-13 15:46:45 -0500 (Thu, 13 Nov 2025) EllapsedTime: 24.5 seconds RetCode: 0 Status: OK