Package: enrichplot Version: 1.31.0 Command: /Library/Frameworks/R.framework/Resources/bin/R CMD INSTALL enrichplot StartedAt: 2025-11-13 15:27:34 -0500 (Thu, 13 Nov 2025) EndedAt: 2025-11-13 15:27:43 -0500 (Thu, 13 Nov 2025) EllapsedTime: 9.2 seconds RetCode: 0 Status: OK