Package: enrichplot Version: 1.31.0 Command: /Library/Frameworks/R.framework/Resources/bin/R CMD check --install=check:enrichplot.install-out.txt --library=/Library/Frameworks/R.framework/Resources/library --no-vignettes --timings enrichplot_1.31.0.tar.gz StartedAt: 2025-11-13 19:48:52 -0500 (Thu, 13 Nov 2025) EndedAt: 2025-11-13 19:50:09 -0500 (Thu, 13 Nov 2025) EllapsedTime: 76.9 seconds RetCode: 0 Status: OK CheckDir: enrichplot.Rcheck Warnings: 0