Package: enrichViewNet Version: 1.9.0 Command: /home/biocbuild/bbs-3.23-bioc/R/bin/R CMD INSTALL enrichViewNet StartedAt: 2025-11-13 15:46:45 -0500 (Thu, 13 Nov 2025) EndedAt: 2025-11-13 15:47:10 -0500 (Thu, 13 Nov 2025) EllapsedTime: 25.0 seconds RetCode: 0 Status: OK