Package: enrichViewNet Version: 1.9.0 Command: /home/biocbuild/bbs-3.23-bioc/R/bin/R CMD check --install=check:enrichViewNet.install-out.txt --library=/home/biocbuild/bbs-3.23-bioc/R/site-library --timings enrichViewNet_1.9.0.tar.gz StartedAt: 2025-11-14 23:18:19 -0500 (Fri, 14 Nov 2025) EndedAt: 2025-11-14 23:22:30 -0500 (Fri, 14 Nov 2025) EllapsedTime: 251.2 seconds RetCode: 0 Status: OK CheckDir: enrichViewNet.Rcheck Warnings: 0