Package: enrichViewNet Version: 1.9.0 Command: /Library/Frameworks/R.framework/Resources/bin/R CMD INSTALL enrichViewNet StartedAt: 2025-11-12 15:42:23 -0500 (Wed, 12 Nov 2025) EndedAt: 2025-11-12 15:42:32 -0500 (Wed, 12 Nov 2025) EllapsedTime: 9.5 seconds RetCode: 0 Status: OK