Package: enrichViewNet Version: 1.9.0 Command: /Library/Frameworks/R.framework/Resources/bin/R CMD check --install=check:enrichViewNet.install-out.txt --library=/Library/Frameworks/R.framework/Resources/library --no-vignettes --timings enrichViewNet_1.9.0.tar.gz StartedAt: 2025-11-23 19:48:27 -0500 (Sun, 23 Nov 2025) EndedAt: 2025-11-23 19:50:23 -0500 (Sun, 23 Nov 2025) EllapsedTime: 116.4 seconds RetCode: 0 Status: OK CheckDir: enrichViewNet.Rcheck Warnings: 0