Package: enrichViewNet Version: 1.9.0 Command: /Library/Frameworks/R.framework/Resources/bin/R CMD build --keep-empty-dirs --no-resave-data enrichViewNet StartedAt: 2025-11-12 16:12:07 -0500 (Wed, 12 Nov 2025) EndedAt: 2025-11-12 16:12:38 -0500 (Wed, 12 Nov 2025) EllapsedTime: 30.3 seconds RetCode: 0 Status: OK PackageFile: enrichViewNet_1.9.0.tar.gz PackageFileSize: 5.308 MiB