Package: enhancerHomologSearch Version: 1.17.0 Command: /home/biocbuild/bbs-3.23-bioc/R/bin/R CMD INSTALL enhancerHomologSearch StartedAt: 2025-11-16 15:55:24 -0500 (Sun, 16 Nov 2025) EndedAt: 2025-11-16 15:59:51 -0500 (Sun, 16 Nov 2025) EllapsedTime: 266.8 seconds RetCode: 0 Status: OK