Package: enhancerHomologSearch Version: 1.17.0 Command: /home/biocbuild/bbs-3.23-bioc/R/bin/R CMD build --keep-empty-dirs --no-resave-data enhancerHomologSearch StartedAt: 2025-11-14 17:27:23 -0500 (Fri, 14 Nov 2025) EndedAt: 2025-11-14 17:38:44 -0500 (Fri, 14 Nov 2025) EllapsedTime: 680.8 seconds RetCode: 0 Status: OK PackageFile: enhancerHomologSearch_1.17.0.tar.gz PackageFileSize: 1.042 MiB