Package: enhancerHomologSearch Version: 1.17.0 Command: /Library/Frameworks/R.framework/Resources/bin/R CMD INSTALL enhancerHomologSearch StartedAt: 2025-11-14 15:27:37 -0500 (Fri, 14 Nov 2025) EndedAt: 2025-11-14 15:29:01 -0500 (Fri, 14 Nov 2025) EllapsedTime: 84.4 seconds RetCode: 0 Status: OK