Package: enhancerHomologSearch Version: 1.17.0 Command: /Library/Frameworks/R.framework/Resources/bin/R CMD build --keep-empty-dirs --no-resave-data enhancerHomologSearch StartedAt: 2025-11-13 16:19:28 -0500 (Thu, 13 Nov 2025) EndedAt: 2025-11-13 16:24:12 -0500 (Thu, 13 Nov 2025) EllapsedTime: 284.1 seconds RetCode: 0 Status: OK PackageFile: enhancerHomologSearch_1.17.0.tar.gz PackageFileSize: 1.043 MiB