Package: enhancerHomologSearch Version: 1.17.0 Command: rm -rf enhancerHomologSearch.buildbin-libdir && mkdir enhancerHomologSearch.buildbin-libdir && /Users/biocbuild/BBS/utils/build-universal.sh enhancerHomologSearch_1.17.0.tar.gz /Library/Frameworks/R.framework/Resources/bin/R enhancerHomologSearch.buildbin-libdir StartedAt: 2025-11-13 23:36:38 -0500 (Thu, 13 Nov 2025) EndedAt: 2025-11-13 23:38:36 -0500 (Thu, 13 Nov 2025) EllapsedTime: 118.0 seconds RetCode: 0 Status: OK PackageFile: enhancerHomologSearch_1.17.0.tgz PackageFileSize: 1.849 MiB