Package: enhancerHomologSearch Version: 1.17.0 Maintainer: Jianhong Ou MaintainerEmail: jou at morgridge.org git_url: https://git.bioconductor.org/packages/enhancerHomologSearch git_branch: devel git_last_commit: aec9810 git_last_commit_date: 2025-10-29 11:11:19 -0500 (Wed, 29 Oct 2025)