Package: eisaR Version: 1.23.1 Command: /Library/Frameworks/R.framework/Resources/bin/R CMD INSTALL eisaR StartedAt: 2025-11-14 15:15:45 -0500 (Fri, 14 Nov 2025) EndedAt: 2025-11-14 15:15:54 -0500 (Fri, 14 Nov 2025) EllapsedTime: 8.7 seconds RetCode: 0 Status: OK