Package: eisaR Version: 1.23.1 Command: /Library/Frameworks/R.framework/Resources/bin/R CMD build --keep-empty-dirs --no-resave-data eisaR StartedAt: 2025-11-14 16:16:00 -0500 (Fri, 14 Nov 2025) EndedAt: 2025-11-14 16:16:41 -0500 (Fri, 14 Nov 2025) EllapsedTime: 40.5 seconds RetCode: 0 Status: OK PackageFile: eisaR_1.23.1.tar.gz PackageFileSize: 1.731 MiB