Package: eisaR Version: 1.23.1 Command: rm -rf eisaR.buildbin-libdir && mkdir eisaR.buildbin-libdir && /Users/biocbuild/BBS/utils/build-universal.sh eisaR_1.23.1.tar.gz /Library/Frameworks/R.framework/Resources/bin/R eisaR.buildbin-libdir StartedAt: 2025-11-14 23:31:39 -0500 (Fri, 14 Nov 2025) EndedAt: 2025-11-14 23:31:50 -0500 (Fri, 14 Nov 2025) EllapsedTime: 11.3 seconds RetCode: 0 Status: OK PackageFile: eisaR_1.23.1.tgz PackageFileSize: 1.761 MiB