Package: eiR Version: 1.51.0 Command: /home/biocbuild/bbs-3.23-bioc/R/bin/R CMD build --keep-empty-dirs --no-resave-data eiR StartedAt: 2025-11-14 17:26:46 -0500 (Fri, 14 Nov 2025) EndedAt: 2025-11-14 17:27:07 -0500 (Fri, 14 Nov 2025) EllapsedTime: 21.0 seconds RetCode: 0 Status: OK PackageFile: eiR_1.51.0.tar.gz PackageFileSize: 441.3 KiB