Package: eiR Version: 1.51.0 Command: /Library/Frameworks/R.framework/Resources/bin/R CMD INSTALL eiR StartedAt: 2025-11-14 15:07:26 -0500 (Fri, 14 Nov 2025) EndedAt: 2025-11-14 15:07:30 -0500 (Fri, 14 Nov 2025) EllapsedTime: 3.7 seconds RetCode: 0 Status: OK