Package: eiR Version: 1.51.0 Command: /Library/Frameworks/R.framework/Resources/bin/R CMD build --keep-empty-dirs --no-resave-data eiR StartedAt: 2025-11-14 16:15:59 -0500 (Fri, 14 Nov 2025) EndedAt: 2025-11-14 16:16:10 -0500 (Fri, 14 Nov 2025) EllapsedTime: 11.1 seconds RetCode: 0 Status: OK PackageFile: eiR_1.51.0.tar.gz PackageFileSize: 452.4 KiB