Package: eiR Version: 1.51.0 Command: rm -rf eiR.buildbin-libdir && mkdir eiR.buildbin-libdir && /Users/biocbuild/BBS/utils/build-universal.sh eiR_1.51.0.tar.gz /Library/Frameworks/R.framework/Resources/bin/R eiR.buildbin-libdir StartedAt: 2025-11-14 23:31:39 -0500 (Fri, 14 Nov 2025) EndedAt: 2025-11-14 23:31:45 -0500 (Fri, 14 Nov 2025) EllapsedTime: 6.2 seconds RetCode: 0 Status: OK PackageFile: eiR_1.51.0.tgz PackageFileSize: 572.7 KiB