Package: edgeR Version: 4.9.0 Command: /Library/Frameworks/R.framework/Resources/bin/R CMD INSTALL edgeR StartedAt: 2025-11-13 15:01:51 -0500 (Thu, 13 Nov 2025) EndedAt: 2025-11-13 15:02:00 -0500 (Thu, 13 Nov 2025) EllapsedTime: 8.5 seconds RetCode: 0 Status: OK