Package: edgeR Version: 4.9.0 Command: /Library/Frameworks/R.framework/Resources/bin/R CMD build --keep-empty-dirs --no-resave-data edgeR StartedAt: 2025-11-13 16:18:58 -0500 (Thu, 13 Nov 2025) EndedAt: 2025-11-13 16:19:09 -0500 (Thu, 13 Nov 2025) EllapsedTime: 11.1 seconds RetCode: 0 Status: OK PackageFile: edgeR_4.9.0.tar.gz PackageFileSize: 2.92 MiB