Package: edgeR Version: 4.9.0 Command: rm -rf edgeR.buildbin-libdir && mkdir edgeR.buildbin-libdir && /Users/biocbuild/BBS/utils/build-universal.sh edgeR_4.9.0.tar.gz /Library/Frameworks/R.framework/Resources/bin/R edgeR.buildbin-libdir StartedAt: 2025-11-13 23:36:28 -0500 (Thu, 13 Nov 2025) EndedAt: 2025-11-13 23:36:37 -0500 (Thu, 13 Nov 2025) EllapsedTime: 9.2 seconds RetCode: 0 Status: OK PackageFile: edgeR_4.9.0.tgz PackageFileSize: 2.652 MiB