Package: easyreporting Version: 1.23.0 Command: /Library/Frameworks/R.framework/Resources/bin/R CMD INSTALL easyreporting StartedAt: 2025-11-12 15:18:58 -0500 (Wed, 12 Nov 2025) EndedAt: 2025-11-12 15:19:07 -0500 (Wed, 12 Nov 2025) EllapsedTime: 8.7 seconds RetCode: 0 Status: OK