Package: easyreporting Version: 1.23.0 Command: /Library/Frameworks/R.framework/Resources/bin/R CMD build --keep-empty-dirs --no-resave-data easyreporting StartedAt: 2025-11-12 16:11:07 -0500 (Wed, 12 Nov 2025) EndedAt: 2025-11-12 16:11:11 -0500 (Wed, 12 Nov 2025) EllapsedTime: 4.1 seconds RetCode: 0 Status: OK PackageFile: easyreporting_1.23.0.tar.gz PackageFileSize: 2.94 MiB