Package: easyreporting Version: 1.23.0 Command: rm -rf easyreporting.buildbin-libdir && mkdir easyreporting.buildbin-libdir && /Users/biocbuild/BBS/utils/build-universal.sh easyreporting_1.23.0.tar.gz /Library/Frameworks/R.framework/Resources/bin/R easyreporting.buildbin-libdir StartedAt: 2025-11-12 20:56:37 -0500 (Wed, 12 Nov 2025) EndedAt: 2025-11-12 20:56:40 -0500 (Wed, 12 Nov 2025) EllapsedTime: 3.1 seconds RetCode: 0 Status: OK PackageFile: easyreporting_1.23.0.tgz PackageFileSize: 3.111 MiB