Package: easylift Version: 1.9.0 Command: /Library/Frameworks/R.framework/Resources/bin/R CMD INSTALL easylift StartedAt: 2025-11-14 15:18:51 -0500 (Fri, 14 Nov 2025) EndedAt: 2025-11-14 15:19:05 -0500 (Fri, 14 Nov 2025) EllapsedTime: 14.2 seconds RetCode: 0 Status: OK