Package: easylift Version: 1.9.0 Command: /Library/Frameworks/R.framework/Resources/bin/R CMD build --keep-empty-dirs --no-resave-data easylift StartedAt: 2025-11-14 16:15:00 -0500 (Fri, 14 Nov 2025) EndedAt: 2025-11-14 16:15:25 -0500 (Fri, 14 Nov 2025) EllapsedTime: 24.3 seconds RetCode: 0 Status: OK PackageFile: easylift_1.9.0.tar.gz PackageFileSize: 673.6 KiB