Package: easyRNASeq Version: 2.47.0 Command: /Library/Frameworks/R.framework/Resources/bin/R CMD INSTALL easyRNASeq StartedAt: 2025-11-13 15:29:08 -0500 (Thu, 13 Nov 2025) EndedAt: 2025-11-13 15:29:26 -0500 (Thu, 13 Nov 2025) EllapsedTime: 17.8 seconds RetCode: 0 Status: OK